Workbook

Sheet SHLDQ Income Statement
A1: SEARS HOLDINGS CORP (SHLDQ) CashFlowFlag INCOME STATEMENT
A2: Fiscal year ends in January. USD in millions except per share data. | B2: 2014-01 | C2: 2015-01 | D2: 2016-01 | E2: 2017-01 | F2: 2018-01 | G2: TTM
A3: Revenue | B3: 36188 | C3: 31198 | D3: 25146 | E3: 22138 | F3: 16702 | G3: 13465
A4: Cost of revenue | B4: 27433 | C4: 24049 | D4: 19336 | E4: 17452 | F4: 13175 | G4: 10811
A5: Gross profit | B5: 8755 | C5: 7149 | D5: 5810 | E5: 4686 | F5: 3527 | G5: 2654
A6: Operating expenses
A7: Sales, General and administrative | B7: 9384 | C7: 8220 | D7: 6857 | E7: 6109 | F7: 5131 | G7: 4322
A8: Other operating expenses | B8: 732 | C8: 581 | D8: 422 | E8: 375 | F8: 332 | G8: 271
A9: Total operating expenses | B9: 10116 | C9: 8801 | D9: 7279 | E9: 6484 | F9: 5463 | G9: 4593
A10: Operating income | B10: -1361 | C10: -1652 | D10: -1469 | E10: -1798 | F10: -1936 | G10: -1939
A11: Interest Expense | B11: 217 | C11: 238 | D11: 223 | E11: 288 | F11: 377 | G11: 522
A12: Other income (expense) | B12: 606 | C12: 205 | D12: 307 | E12: -309 | F12: 1332 | G12: 168
A13: Income before income taxes | B13: -972 | C13: -1685 | D13: -1385 | E13: -2395 | F13: -981 | G13: -2293
A14: Provision for income taxes | B14: 144 | C14: 125 | D14: -257 | E14: -174 | F14: -598 | G14: -589
A15: Minority interest | B15: 249 | C15: -128 | D15: 1
A16: Other income | B16: 249 | C16: -128 | D16: 1
A17: Net income from continuing operations | B17: -1116 | C17: -1810 | D17: -1128 | E17: -2221 | F17: -383 | G17: -1704
A18: Other | B18: -249 | C18: 128 | D18: -1
A19: Net income | B19: -1365 | C19: -1682 | D19: -1129 | E19: -2221 | F19: -383 | G19: -1704
A20: Net income available to common shareholders | B20: -1365 | C20: -1682 | D20: -1129 | E20: -2221 | F20: -383 | G20: -1704
A21: Earnings per share
A22: Basic | B22: -12.11 | C22: -15.82 | D22: -10.59 | E22: -20.78 | F22: -3.57 | G22: -15.69
A23: Diluted | B23: -12.11 | C23: -15.82 | D23: -10.59 | E23: -20.78 | F23: -3.57 | G23: -15.69
A24: Weighted average shares outstanding
A25: Basic | B25: 113 | C25: 106 | D25: 107 | E25: 107 | F25: 107 | G25: 108
A26: Diluted | B26: 113 | C26: 106 | D26: 107 | E26: 107 | F26: 107 | G26: 108
A27: EBITDA | B27: -23 | C27: -866 | D27: -740 | E27: -1732 | F27: -272 | G27: -1500

Sheet SHLDQ Balance Sheet
A1: SEARS HOLDINGS CORP (SHLDQ) CashFlowFlag BALANCE SHEET
A2: Fiscal year ends in January. USD in millions except per share data. | B2: 2014-01 | C2: 2015-01 | D2: 2016-01 | E2: 2017-01 | F2: 2018-01
A3: Assets
A4: Current assets
A5: Cash
A6: Cash and cash equivalents | B6: 428 | C6: 143 | D6: 141 | E6: 196 | F6: 113
A7: Total cash | B7: 428 | C7: 143 | D7: 141 | E7: 196 | F7: 113
A8: Receivables | B8: 553 | C8: 429 | D8: 419 | E8: 466 | F8: 343
A9: Inventories | B9: 7034 | C9: 4943 | D9: 5172 | E9: 3959 | F9: 2798
A10: Prepaid expenses | B10: 334 | C10: 241 | D10: 216 | E10: 285 | F10: 335
A11: Other current assets | B11: 610 | C11: 107 | D11: 97 | E11: 90 | F11: 223
A12: Total current assets | B12: 8959 | C12: 5863 | D12: 6045 | E12: 4996 | F12: 3812
A13: Non-current assets
A14: Property, plant and equipment
A15: Land | B15: 1850 | C15: 1701 | D15: 827 | E15: 770 | F15: 659
A16: Fixtures and equipment | B16: 2587 | C16: 1629 | D16: 1352 | E16: 1133 | F16: 868
A17: Other properties | B17: 5672 | C17: 4983 | D17: 3412 | E17: 3178 | F17: 2583
A18: Property and equipment, at cost | B18: 10109 | C18: 8313 | D18: 5591 | E18: 5081 | F18: 4110
A19: Accumulated Depreciation | B19: -4715 | C19: -3864 | D19: -2960 | E19: -2841 | F19: -2381
A20: Property, plant and equipment, net | B20: 5394 | C20: 4449 | D20: 2631 | E20: 2240 | F20: 1729
A21: Goodwill | B21: 379 | C21: 269 | D21: 269 | E21: 269 | F21: 269
A22: Intangible assets | B22: 2850 | C22: 2097 | D22: 1909 | E22: 1521 | F22: 1168
A23: Other long-term assets | B23: 679 | C23: 531 | D23: 483 | E23: 336 | F23: 284
A24: Total non-current assets | B24: 9302 | C24: 7346 | D24: 5292 | E24: 4366 | F24: 3450
A25: Total assets | B25: 18261 | C25: 13209 | D25: 11337 | E25: 9362 | F25: 7262
A26: Liabilities and stockholders' equity
A27: Liabilities
A28: Current liabilities
A29: Short-term debt | B29: 1415 | C29: 690 | D29: 868 | E29: 590 | F29: 1883
A30: Accounts payable | B30: 2496 | C30: 1621 | D30: 1574 | E30: 1048 | F30: 576
A31: Deferred income taxes | B31: 387 | C31: 480
A32: Taxes payable | B32: 460 | C32: 380 | D32: 284 | E32: 339 | F32: 247
A33: Deferred revenues | B33: 900 | C33: 818 | D33: 787 | E33: 748 | F33: 641
A34: Other current liabilities | B34: 2527 | C34: 2087 | D34: 1925 | E34: 1956 | F34: 1568
A35: Total current liabilities | B35: 8185 | C35: 6076 | D35: 5438 | E35: 4681 | F35: 4915
A36: Non-current liabilities
A37: Long-term debt | B37: 2834 | C37: 3110 | D37: 2108 | E37: 3573 | F37: 2249
A38: Capital leases | D38: 164 | E38: 235 | F38: 247
A39: Deferred taxes liabilities | B39: 1109 | C39: 715 | D39: 893 | E39: 743 | F39: 126
A40: Deferred revenues | D40: 753 | E40: 563 | F40: 362
...

Sheet Cash flow statement
A1: SEARS HOLDINGS CORP (SHLDQ) Statement of CASH FLOW
A2: Fiscal year ends in January. USD in millions except per share data. | B2: 2014-01 | C2: 2015-01 | D2: 2016-01 | E2: 2017-01 | F2: 2018-01 | G2: TTM
A3: Cash Flows From Operating Activities
A4: Depreciation & amortization | B4: 732 | C4: 581 | D4: 422 | E4: 375 | F4: 332 | G4: 271
A5: Amortization of debt discount/premium and issuance costs | D5: -52 | E5: -88 | F5: -78 | G5: -69
A6: Investment/asset impairment charges | B6: 233 | C6: 63 | D6: 274 | E6: 427 | F6: 142 | G6: 440
A7: Investments losses (gains) | B7: -160 | C7: -97
A8: Deferred income taxes | B8: 623 | C8: 835 | D8: 217 | E8: 765 | F8: -1395 | G8: -1313
A9: Inventory | B9: 446 | C9: 1091 | D9: -229 | E9: 1213 | F9: 1144 | G9: 1128
A10: Accounts payable | B10: -230 | C10: -528 | D10: -47 | E10: -526 | F10: -472 | G10: -11
A11: Income taxes payable | B11: 63 | C11: -110 | D11: -95 | E11: 80 | F11: -108 | G11: -131
A12: Other working capital | B12: -607 | C12: -752 | D12: -541 | E12: -921 | F12: 352 | G12: 555
A13: Other non-cash items | B13: -2209 | C13: -2470 | D13: -2116 | E13: -2706 | F13: -1759 | G13: -1934
A14: Net cash provided by operating activities | B14: -1109 | C14: -1387 | D14: -2167 | E14: -1381 | F14: -1842 | G14: -1064
A15: Cash Flows From Investing Activities
A16: Investments in property, plant, and equipment | B16: -329 | C16: -270 | D16: -211 | E16: -142 | F16: -80 | G16: -66
A17: Property, plant, and equipment reductions | B17: 995 | C17: 424 | D17: 2730 | E17: 386 | F17: 1109 | G17: 644
A18: Acquisitions, net | F18: 572
A19: Sales/Maturities of investments | F19: 293
A20: Other investing charges | B20: -2 | C20: 173
A21: Net cash used for investing activities | B21: 664 | C21: 327 | D21: 2519 | E21: 244 | F21: 1894 | G21: 578
A22: Cash Flows From Financing Activities
A23: Short-term borrowing | B23: 238 | C23: -1117 | D23: 583 | E23: -797 | F23: 271 | G23: 474
A24: Long-term debt issued | B24: 994 | C24: 1025 | D24: 508 | E24: 2099 | F24: 1126 | G24: 2011
A25: Long-term debt repayment | B25: -83 | C25: -80 | D25: -1405 | E25: -66 | F25: -1356 | G25: -1493
A26: Other financing activities | B26: -247 | C26: 457 | D26: -50 | E26: -51 | F26: -43 | G26: -53
A27: Net cash provided by (used for) financing activities | B27: 902 | C27: 285 | D27: -364 | E27: 1185 | F27: -2 | G27: 939
A28: Effect of exchange rate changes | B28: -38 | C28: -3
A29: Net change in cash | B29: 419 | C29: -778 | D29: -12 | E29: 48 | F29: 50 | G29: 453
A30: Cash at beginning of period | B30: 609 | C30: 1028 | D30: 250 | E30: 238 | F30: 286 | G30: 354
A31: Cash at end of period | B31: 1028 | C31: 250 | D31: 238 | E31: 286 | F31: 336 | G31: 807
A32: Free Cash Flow
A33: Operating cash flow | B33: -1109 | C33: -1387 | D33: -2167 | E33: -1381 | F33: -1842 | G33: -1064
A34: Capital expenditure | B34: -329 | C34: -270 | D34: -211 | E34: -142 | F34: -80 | G34: -66
A35: Free cash flow | B35: -1438 | C35: -1657 | D35: -2378 | E35: -1523 | F35: -1922 | G35: -1130
A36: Supplemental schedule of cash flow data
A37: Cash paid for income taxes | B37: 21 | C37: 119 | D37: 45 | E37: 23 | F37: 37 | G37: 20
A38: Cash paid for interest | B38: 206 | C38: 230 | D38: 252 | E38: 275 | F38: 412 | G38: 441

Sheet Ratios computations
A2: profitability ratios | B2: formulae | C2: 2015 | D2: 2016 | E2: 2017 | F2: 2018
A3: net profit margin | B3: net profit/net sales | C3: ='SHLDQ Income Statement'!C19/'SHLDQ Income Statement'!C3 -> -0.053913712 | D3: ='SHLDQ Income Statement'!D19/'SHLDQ Income Statement'!D3 -> -0.044897797 | E3: ='SHLDQ Income Statement'!E19/'SHLDQ Income Statement'!E3 -> -0.10032523 | F3: ='SHLDQ Income Statement'!F19/'SHLDQ Income Statement'!F3 -> -0.022931385
A4: return on assets | B4: net profit/total assets | C4: ='SHLDQ Income Statement'!C19/'SHLDQ Balance Sheet'!C25 -> -0.12733742 | D4: ='SHLDQ Income Statement'!D19/'SHLDQ Balance Sheet'!D25 -> -0.099585428 | E4: ='SHLDQ Income Statement'!E19/'SHLDQ Balance Sheet'!E25 -> -0.23723563 | F4: ='SHLDQ Income Statement'!F19/'SHLDQ Balance Sheet'!F25 -> -0.052740292
A5: return on equity | B5: net profit/shareholders’ equity | C5: ='SHLDQ Income Statement'!C19/'SHLDQ Balance Sheet'!C52 -> 1.7686646 | D5: ='SHLDQ Income Statement'!D19/'SHLDQ Balance Sheet'!D52 -> 0.57514009 | E5: ='SHLDQ Income Statement'!E19/'SHLDQ Balance Sheet'!E52 -> 0.58080544 | F5: ='SHLDQ Income Statement'!F19/'SHLDQ Balance Sheet'!F52 -> 0.10287403
A6: Gross profit margin | B6: Gross profit/sales | C6: ='SHLDQ Income Statement'!C5/'SHLDQ Income Statement'!C3 -> 0.2291493 | D6: ='SHLDQ Income Statement'!D5/'SHLDQ Income Statement'!D3 -> 0.23105066 | E6: ='SHLDQ Income Statement'!E5/'SHLDQ Income Statement'!E3 -> 0.21167224 | F6: ='SHLDQ Income Statement'!F5/'SHLDQ Income Statement'!F3 -> 0.21117231
A7: leverage ratios
A8: debt-equity ratio | B8: total liabilities/total equity | C8: ='SHLDQ Balance Sheet'!C45/'SHLDQ Balance Sheet'!C52 -> -14.88959 | D8: ='SHLDQ Balance Sheet'!D45/'SHLDQ Balance Sheet'!D52 -> -6.7753439 | E8: ='SHLDQ Balance Sheet'!E45/'SHLDQ Balance Sheet'!E52 -> -3.4482218 | F8: ='SHLDQ Balance Sheet'!F45/'SHLDQ Balance Sheet'!F52 -> -2.9505775
A9: Long term debt ratio | B9: long term debt/total assets | C9: ='SHLDQ Balance Sheet'!C43/'SHLDQ Balance Sheet'!C25 -> 0.13998032 | D9: ='SHLDQ Balance Sheet'!D43/'SHLDQ Balance Sheet'!D25 -> 0.1526859 | E9: ='SHLDQ Balance Sheet'!E43/'SHLDQ Balance Sheet'!E25 -> 0.17528306 | F9: ='SHLDQ Balance Sheet'!F43/'SHLDQ Balance Sheet'!F25 -> 0.20201047
A10: Total debt ratio | B10: Total liabilities/total assets | C10: ='SHLDQ Balance Sheet'!C45/'SHLDQ Balance Sheet'!C25 -> 1.0719964 | D10: ='SHLDQ Balance Sheet'!D45/'SHLDQ Balance Sheet'!D25 -> 1.1731499 | E10: ='SHLDQ Balance Sheet'!E45/'SHLDQ Balance Sheet'!E25 -> 1.4084597 | F10: ='SHLDQ Balance Sheet'!F45/'SHLDQ Balance Sheet'!F25 -> 1.5126687
A11: Time interest earned | B11: EBIT/ interest expense | C11: ='SHLDQ Income Statement'!C10/'SHLDQ Income Statement'!C11 -> -6.9411765 | D11: ='SHLDQ Income Statement'!D10/'SHLDQ Income Statement'!D11 -> -6.5874439 | E11: ='SHLDQ Income Statement'!E10/'SHLDQ Income Statement'!E11 -> -6.2430556 | F11: ='SHLDQ Income Statement'!F10/'SHLDQ Income Statement'!F11 -> -5.1352785
A12: Liquidity ratios
A13: current ratio | B13: current assets/current liabilities | C13: ='SHLDQ Balance Sheet'!C12/'SHLDQ Balance Sheet'!C35 -> 0.96494404 | D13: ='SHLDQ Balance Sheet'!D12/'SHLDQ Balance Sheet'!D35 -> 1.1116219 | E13: ='SHLDQ Balance Sheet'!E12/'SHLDQ Balance Sheet'!E35 -> 1.0672933 | F13: ='SHLDQ Balance Sheet'!F12/'SHLDQ Balance Sheet'!F35 -> 0.77558494
A14: Quick ratio | B14: (Cash+ cash equivalent+ short-term investments + current receivables)/current liabilities | C14: =('SHLDQ Balance Sheet'!C6+'SHLDQ Balance Sheet'!C8)/'SHLDQ Balance Sheet'!C35 -> 0.094140882 | D14: =('SHLDQ Balance Sheet'!D6+'SHLDQ Balance Sheet'!D8)/'SHLDQ Balance Sheet'!D35 -> 0.10297904 | E14: =('SHLDQ Balance Sheet'!E6+'SHLDQ Balance Sheet'!E8)/'SHLDQ Balance Sheet'!E35 -> 0.14142277 | F14: =('SHLDQ Balance Sheet'!F6+'SHLDQ Balance Sheet'!F8)/'SHLDQ Balance Sheet'!F35 -> 0.092777213
A15: Cash ratio | B15: (cash+cash equivalents)/total current liabilities | C15: =('SHLDQ Balance Sheet'!C6+0)/'SHLDQ Balance Sheet'!C35 -> 0.023535221 | D15: =('SHLDQ Balance Sheet'!D6+0)/'SHLDQ Balance Sheet'!D35 -> 0.02592865 | E15: =('SHLDQ Balance Sheet'!E6+0)/'SHLDQ Balance Sheet'!E35 -> 0.041871395 | F15: =('SHLDQ Balance Sheet'!F6+0)/'SHLDQ Balance Sheet'!F35 -> 0.022990844
A16: Net working capital to total assets | B16: Current assets-current liabilities | C16: ='SHLDQ Balance Sheet'!C12-'SHLDQ Balance Sheet'!C35 -> -213 | D16: ='SHLDQ Balance Sheet'!D12-'SHLDQ Balance Sheet'!D35 -> 607 | E16: ='SHLDQ Balance Sheet'!E12-'SHLDQ Balance Sheet'!E35 -> 315 | F16: ='SHLDQ Balance Sheet'!F12-'SHLDQ Balance Sheet'!F35 -> -1103
A17: efficiency ratios
A18: Asset turnover ratio | B18: Net sales/average total assets | C18: ='SHLDQ Income Statement'!C3/(('SHLDQ Balance Sheet'!B25+'SHLDQ Balance Sheet'!C25)/2) -> 1.9827137 | D18: ='SHLDQ Income Statement'!D3/(('SHLDQ Balance Sheet'!C25+'SHLDQ Balance Sheet'!D25)/2) -> 2.0488878 | E18: ='SHLDQ Income Statement'!E3/(('SHLDQ Balance Sheet'!D25+'SHLDQ Balance Sheet'!E25)/2) -> 2.1390405 | F18: ='SHLDQ Income Statement'!F3/(('SHLDQ Balance Sheet'!E25+'SHLDQ Balance Sheet'!F25)/2) -> 2.009384
A19: Average collection period | B19: average accounts receivables/(annual sales/365) | C19: =('SHLDQ Balance Sheet'!B8+'SHLDQ Balance Sheet'!C8)/2/('SHLDQ Income Statement'!C3/365) -> 5.7444387 | D19: =('SHLDQ Balance Sheet'!C8+'SHLDQ Balance Sheet'!D8)/2/('SHLDQ Income Statement'!D3/365) -> 6.154458 | E19: =('SHLDQ Balance Sheet'!D8+'SHLDQ Balance Sheet'!E8)/2/('SHLDQ Income Statement'!E3/365) -> 7.2957133 | F19: =('SHLDQ Balance Sheet'!E8+'SHLDQ Balance Sheet'!F8)/2/('SHLDQ Income Statement'!F3/365) -> 8.8398096
A20: Inventory turnover | B20: cost of goods sold/average inventory | C20: ='SHLDQ Income Statement'!C4/(('SHLDQ Balance Sheet'!B9+'SHLDQ Balance Sheet'!C9)/2) -> 4.0158637 | D20: ='SHLDQ Income Statement'!D4/(('SHLDQ Balance Sheet'!C9+'SHLDQ Balance Sheet'!D9)/2) -> 3.8232328 | E20: ='SHLDQ Income Statement'!E4/(('SHLDQ Balance Sheet'!D9+'SHLDQ Balance Sheet'!E9)/2) -> 3.8225824 | F20: ='SHLDQ Income Statement'!F4/(('SHLDQ Balance Sheet'!E9+'SHLDQ Balance Sheet'!F9)/2) -> 3.8996596
A21: Days sales outstanding | B21: (account receivables/net credit sales)x 365 | C21: =('SHLDQ Balance Sheet'!C8/'SHLDQ Income Statement'!C3)*365 -> 5.0190717 | D21: =('SHLDQ Balance Sheet'!D8/'SHLDQ Income Statement'!D3)*365 -> 6.0818818 | E21: =('SHLDQ Balance Sheet'!E8/'SHLDQ Income Statement'!E3)*365 -> 7.6831692 | F21: =('SHLDQ Balance Sheet'!F8/'SHLDQ Income Statement'!F3)*365 -> 7.4958089
